BEGIN:VCALENDAR
VERSION:2.0
PRODID:-//Squarespace Inc/Squarespace 6//v6//EN
BEGIN:VEVENT
UID:6017fe7b93fc970c75970f43@squarespace.com
DTSTAMP:20210204T103925Z
DTSTART:20210315T203000Z
DTEND:20210319T113000Z
SUMMARY:Presenting to the Board
END:VEVENT
END:VCALENDAR
